BEGIN:VCALENDAR
VERSION:2.0
PRODID:-//F.E.B.E.L.A.M - ECPv6.15.18//NONSGML v1.0//EN
CALSCALE:GREGORIAN
METHOD:PUBLISH
X-ORIGINAL-URL:https://www.febelam.be
X-WR-CALDESC:Évènements pour F.E.B.E.L.A.M
REFRESH-INTERVAL;VALUE=DURATION:PT1H
X-Robots-Tag:noindex
X-PUBLISHED-TTL:PT1H
BEGIN:VTIMEZONE
TZID:Europe/Paris
BEGIN:DAYLIGHT
TZOFFSETFROM:+0100
TZOFFSETTO:+0200
TZNAME:CEST
DTSTART:20240331T010000
END:DAYLIGHT
BEGIN:STANDARD
TZOFFSETFROM:+0200
TZOFFSETTO:+0100
TZNAME:CET
DTSTART:20241027T010000
END:STANDARD
BEGIN:DAYLIGHT
TZOFFSETFROM:+0100
TZOFFSETTO:+0200
TZNAME:CEST
DTSTART:20250330T010000
END:DAYLIGHT
BEGIN:STANDARD
TZOFFSETFROM:+0200
TZOFFSETTO:+0100
TZNAME:CET
DTSTART:20251026T010000
END:STANDARD
BEGIN:DAYLIGHT
TZOFFSETFROM:+0100
TZOFFSETTO:+0200
TZNAME:CEST
DTSTART:20260329T010000
END:DAYLIGHT
BEGIN:STANDARD
TZOFFSETFROM:+0200
TZOFFSETTO:+0100
TZNAME:CET
DTSTART:20261025T010000
END:STANDARD
END:VTIMEZONE
BEGIN:VEVENT
DTSTART;TZID=Europe/Paris:20250902T180000
DTEND;TZID=Europe/Paris:20250902T193000
DTSTAMP:20260419T153409
CREATED:20250730T121618Z
LAST-MODIFIED:20250730T121618Z
UID:549-1756836000-1756841400@www.febelam.be
SUMMARY:Reprise des cours Jumet Club des Hamendes
DESCRIPTION:JUDO CLUB DES HAMENDES\n  \nJudo à l’école communale\nRue Deterville\, 17\n6040 JUMET HAMENDES \nReprend ses cours\nLe 02 septembre 2025 \n \nDès 5 ans et plus \nMardi de 18h00 à 19h00\nJeudi de 18h00 à 19h30\n  \nPour tous renseignements : \nMr Beaufays : 0495/99.86.17 (Prof JUDO / Président)
URL:https://www.febelam.be/event/reprise-des-cours-jumet-club-des-hamendes/
LOCATION:DOJO JUMET HAMENDES\, Rue Deterville\, 17\, Jumet\, 6040\, Belgium
CATEGORIES:Activité Club
END:VEVENT
END:VCALENDAR